BEGIN:VCALENDAR
VERSION:2.0
PRODID:-//Innovation Incubation Center - ECPv6.15.13.1//NONSGML v1.0//EN
CALSCALE:GREGORIAN
METHOD:PUBLISH
X-WR-CALNAME:Innovation Incubation Center
X-ORIGINAL-URL:https://i2c.tuwien.ac.at
X-WR-CALDESC:Events for Innovation Incubation Center
REFRESH-INTERVAL;VALUE=DURATION:PT1H
X-Robots-Tag:noindex
X-PUBLISHED-TTL:PT1H
BEGIN:VTIMEZONE
TZID:Europe/Vienna
BEGIN:DAYLIGHT
TZOFFSETFROM:+0100
TZOFFSETTO:+0200
TZNAME:CEST
DTSTART:20240331T010000
END:DAYLIGHT
BEGIN:STANDARD
TZOFFSETFROM:+0200
TZOFFSETTO:+0100
TZNAME:CET
DTSTART:20241027T010000
END:STANDARD
BEGIN:DAYLIGHT
TZOFFSETFROM:+0100
TZOFFSETTO:+0200
TZNAME:CEST
DTSTART:20250330T010000
END:DAYLIGHT
BEGIN:STANDARD
TZOFFSETFROM:+0200
TZOFFSETTO:+0100
TZNAME:CET
DTSTART:20251026T010000
END:STANDARD
BEGIN:DAYLIGHT
TZOFFSETFROM:+0100
TZOFFSETTO:+0200
TZNAME:CEST
DTSTART:20260329T010000
END:DAYLIGHT
BEGIN:STANDARD
TZOFFSETFROM:+0200
TZOFFSETTO:+0100
TZNAME:CET
DTSTART:20261025T010000
END:STANDARD
END:VTIMEZONE
BEGIN:VEVENT
DTSTART;TZID=Europe/Vienna:20251021T103000
DTEND;TZID=Europe/Vienna:20251021T120000
DTSTAMP:20260420T235011
CREATED:20250917T162909Z
LAST-MODIFIED:20251215T170617Z
UID:61537-1761042600-1761048000@i2c.tuwien.ac.at
SUMMARY:#EoI -   IP for Open Science
DESCRIPTION:Join this Masterclass and learn why open science and intellectual property are not contradictory and how to manage them.\n\n\nThis session is about open science (OS) and intellectual property (IP). Many people might think that OS and IP are in conflict\, (isn´t IP secret?) but we´ll see that they have a lot in common. \nOS is a movement to provide transparency and access to research results to support innovation. Access to research results should be FAIR (Findable\, Accessible\, Interoperable). However\, OS does not ignore commercial interests so OS is as “open as possible\, but as closed as necessary”. But we’ll see that as transparent open science is\, it doesn´t mean that you can ignore IP. \nIP is a legal system to reward innovators\, protect their creativity and to support innovation. We´ll see that IP information – today we´ll concentrate on patents – is also FAIR . And “as open as possible\, as closed as necessary” is actually built in to IP from the start. IP has been around for a very long time and you could consider IP as the original “open science”. \n  \nJoin us to deep dive into OS and IP principles and how to combine both systems. \n  \nAbout the speaker \nAfter a career in academia and R&D in the UK\, Nigel Clarke became a patent examiner at the European Patent Office in The Hague. He moved to Vienna and started work in the patent information division. Nowadays he acts as a consultant and a visiting fellow at Cambridge University. \nCheck Nigel Clarkes on LinkedIn. \n  \n  \nAbout the Engines of Innovation Series \nThe Engines of Innovation Series organized by the TU Wien Innovation Incubation Center (i²c) is a format that offers workshops to scientists who are seeking to broaden their horizons in the field of innovation and healthy high performance. These workshops are free of charge to scientists from all faculties and institutes of TU Wien. Registration required. \n_______________________________________________________________________________________ \nImportant: \n*During the event\, photographic and video material will be taken. Please inform the i²c team at the venue in case you do not agree with appearing in this material. The photographic and video material taken at the event will be used by i²c in printed and electronic media for promotional purposes.
URL:https://i2c.tuwien.ac.at/event/eoi-ip-for-open-science/
LOCATION:TU Wien Innovation Incubation Center (i²c)\, Taubstummengasse 11\, 4th floor\, Vienna\, 1040\, Austria
CATEGORIES:Masterclasses
ATTACH;FMTTYPE=image/jpeg:https://i2c.tuwien.ac.at/wp-content/uploads/2025/09/eecdbe3239289470f707ea42b705cbb4.jpg
END:VEVENT
END:VCALENDAR